BEGIN:VCALENDAR
VERSION:2.0
PRODID:-//CCDHHN - ECPv6.15.20//NONSGML v1.0//EN
CALSCALE:GREGORIAN
METHOD:PUBLISH
X-WR-CALNAME:CCDHHN
X-ORIGINAL-URL:https://ccdhhn.ca
X-WR-CALDESC:Events for CCDHHN
REFRESH-INTERVAL;VALUE=DURATION:PT1H
X-Robots-Tag:noindex
X-PUBLISHED-TTL:PT1H
BEGIN:VTIMEZONE
TZID:America/Halifax
BEGIN:DAYLIGHT
TZOFFSETFROM:-0400
TZOFFSETTO:-0300
TZNAME:ADT
DTSTART:20220313T060000
END:DAYLIGHT
BEGIN:STANDARD
TZOFFSETFROM:-0300
TZOFFSETTO:-0400
TZNAME:AST
DTSTART:20221106T050000
END:STANDARD
BEGIN:DAYLIGHT
TZOFFSETFROM:-0400
TZOFFSETTO:-0300
TZNAME:ADT
DTSTART:20230312T060000
END:DAYLIGHT
BEGIN:STANDARD
TZOFFSETFROM:-0300
TZOFFSETTO:-0400
TZNAME:AST
DTSTART:20231105T050000
END:STANDARD
BEGIN:DAYLIGHT
TZOFFSETFROM:-0400
TZOFFSETTO:-0300
TZNAME:ADT
DTSTART:20240310T060000
END:DAYLIGHT
BEGIN:STANDARD
TZOFFSETFROM:-0300
TZOFFSETTO:-0400
TZNAME:AST
DTSTART:20241103T050000
END:STANDARD
END:VTIMEZONE
BEGIN:VEVENT
DTSTART;TZID=America/Halifax:20230509T000000
DTEND;TZID=America/Halifax:20230509T235959
DTSTAMP:20260424T061626
CREATED:20230414T144332Z
LAST-MODIFIED:20230717T203156Z
UID:10000003-1683590400-1683676799@ccdhhn.ca
SUMMARY:DH@Guelph: TEI Basics
DESCRIPTION:Led by Diane Jakacki and James Cummings.
URL:https://ccdhhn.ca/workshop/dhguelph-tei-basics/
LOCATION:University of Guelph\, McLaughlin Library\, Guelph\, Ontario\, Canada
CATEGORIES:4-10 hour workshop
ATTACH;FMTTYPE=image/jpeg:https://ccdhhn.ca/wp-content/uploads/2023/04/https___cdn.evbuc_.com_images_485102339_170579542502_1_original.jpg
GEO:43.53146670601786;-80.22736758787713
X-APPLE-STRUCTURED-LOCATION;VALUE=URI;X-ADDRESS=University of Guelph McLaughlin Library Guelph Ontario Canada;X-APPLE-RADIUS=500;X-TITLE=McLaughlin Library:geo:-80.22736758787713,43.53146670601786
END:VEVENT
END:VCALENDAR