BEGIN:VCALENDAR
VERSION:2.0
PRODID:-//CCDHHN - ECPv6.15.20//NONSGML v1.0//EN
CALSCALE:GREGORIAN
METHOD:PUBLISH
X-WR-CALNAME:CCDHHN
X-ORIGINAL-URL:https://ccdhhn.ca
X-WR-CALDESC:Events for CCDHHN
REFRESH-INTERVAL;VALUE=DURATION:PT1H
X-Robots-Tag:noindex
X-PUBLISHED-TTL:PT1H
BEGIN:VTIMEZONE
TZID:America/Halifax
BEGIN:DAYLIGHT
TZOFFSETFROM:-0400
TZOFFSETTO:-0300
TZNAME:ADT
DTSTART:20230312T060000
END:DAYLIGHT
BEGIN:STANDARD
TZOFFSETFROM:-0300
TZOFFSETTO:-0400
TZNAME:AST
DTSTART:20231105T050000
END:STANDARD
BEGIN:DAYLIGHT
TZOFFSETFROM:-0400
TZOFFSETTO:-0300
TZNAME:ADT
DTSTART:20240310T060000
END:DAYLIGHT
BEGIN:STANDARD
TZOFFSETFROM:-0300
TZOFFSETTO:-0400
TZNAME:AST
DTSTART:20241103T050000
END:STANDARD
BEGIN:DAYLIGHT
TZOFFSETFROM:-0400
TZOFFSETTO:-0300
TZNAME:ADT
DTSTART:20250309T060000
END:DAYLIGHT
BEGIN:STANDARD
TZOFFSETFROM:-0300
TZOFFSETTO:-0400
TZNAME:AST
DTSTART:20251102T050000
END:STANDARD
END:VTIMEZONE
BEGIN:VEVENT
DTSTART;TZID=America/Halifax:20240202T000000
DTEND;TZID=America/Halifax:20240202T235959
DTSTAMP:20260423T131601
CREATED:20240105T164406Z
LAST-MODIFIED:20240105T164411Z
UID:10000227-1706832000-1706918399@ccdhhn.ca
SUMMARY:The Humanities and Scholarship in a Digital World (Part 2)
DESCRIPTION:Two parts: January 19 (10 am – Noon) and February 2 (10 am – Noon) \n\n\n\nThis two-part workshop will bring together people working in the postsecondary sector (faculty\, librarians\, students\, administrators) to discuss and reflect on knowledge making in the humanities (and in academia more broadly) within a society enmeshed with networked digital technology.  \n\n\n\nWorkshop One will provide a brief overview of the history of “digital humanities” and some key debates within the field before asking participants to reflect upon and share their own past\, present\, and possible future engagements–positive\, negative\, and ambivalent–with digital technology. \n\n\n\nWorkshop Two will ask participants to share and discuss a proposed digital project of their own: this could be a digital creation (an edition\, a database\, a data visualisation\, a tool\, a game)\, a course or course assignment\, a plan for self-directed study\, an analysis of a digital artefact or phenomenon\, or something else. \n\n\n\nRegister here: https://torontomu.zoom.us/meeting/register/tJwrf-CprTktGt0oEPkn59R9TCEZKKd7qMpe \n\n\n\nTHIS IS A HYBRID WORKSHOP AND MAY BE ATTENDED IN-PERSON OR ONLINE. \n\n\n\nThe information above will be posted on the CDH’s newsletter: https://cdh.rula.info/newsletter/.
URL:https://ccdhhn.ca/workshop/the-humanities-and-scholarship-in-a-digital-world-part-2/
LOCATION:Toronto Metropolitan University\, 350 Victoria Street\, Toronto\, Ontario\, M5B 2K3\, Canada
CATEGORIES:4-10 hour workshop
ATTACH;FMTTYPE=image/jpeg:https://ccdhhn.ca/wp-content/uploads/2024/01/CDH-Logo-Only-2020-Black-and-White.jpg
GEO:43.658304735547;-79.380816230127
X-APPLE-STRUCTURED-LOCATION;VALUE=URI;X-ADDRESS=Toronto Metropolitan University 350 Victoria Street Toronto Ontario M5B 2K3 Canada;X-APPLE-RADIUS=500;X-TITLE=350 Victoria Street:geo:-79.380816230127,43.658304735547
END:VEVENT
BEGIN:VEVENT
DTSTART;TZID=America/Halifax:20240202T000000
DTEND;TZID=America/Halifax:20240202T235959
DTSTAMP:20260423T131601
CREATED:20240201T170707Z
LAST-MODIFIED:20240201T173250Z
UID:10000246-1706832000-1706918399@ccdhhn.ca
SUMMARY:Plotting and programming in Python for non-coders
DESCRIPTION:Two parts: February 2 (10 am – 3 pm) and February 9 (10 am – 3 pm) \n\n\n\nThis workshop\, which takes place across two sessions on February 2nd and February 9th\, is an introduction to programming in Python for people with little or no previous programming experience. Using some supplied data\, you will learn the basics of working with the flexible and powerful Python programming language. Material will cover basic programming concepts\, loading and working with data\, and using libraries to create graphs and charts. Instructors: Kris Joseph\, Ali Sadaqain \n\n\n\nRegister here: https://yorku.libcal.com/event/3779143 \n\n\n\nTHIS IS AN IN-PERSON WORKSHOP
URL:https://ccdhhn.ca/workshop/plotting-and-programming-in-python-for-non-coders/
LOCATION:York University\, 4700 Keele Street\, Toronto\, Ontario\, M3J 1P3\, Canada
CATEGORIES:4-10 hour workshop
ATTACH;FMTTYPE=image/png:https://ccdhhn.ca/wp-content/uploads/2024/02/libraries_yu_PRIMARY_hor_CMYK67.png
GEO:43.772283695741;-79.505416689555
X-APPLE-STRUCTURED-LOCATION;VALUE=URI;X-ADDRESS=York University 4700 Keele Street Toronto Ontario M3J 1P3 Canada;X-APPLE-RADIUS=500;X-TITLE=4700 Keele Street:geo:-79.505416689555,43.772283695741
END:VEVENT
BEGIN:VEVENT
DTSTART;TZID=America/Halifax:20240226T000000
DTEND;TZID=America/Halifax:20240228T235959
DTSTAMP:20260423T131601
CREATED:20240304T204028Z
LAST-MODIFIED:20240304T204032Z
UID:10000262-1708905600-1709164799@ccdhhn.ca
SUMMARY:Introduction to programming with Python
DESCRIPTION:February 26-28\, 2024\, 12:00-2:00 pm EST \n\n\n\nWelcome by: \n\n\n\nPresented by: Alex Razoumov \n\n\n\nDuration: 3 * 120 minutes (total 6 hours) \n\n\n\nDescription: Python can be used in many humanities and social sciences workflows\, and it is an easy and fun language to learn. This introductory 3-day\, 6-hour course will walk you through the basics of programming in Python starting at the beginner’s level. We will cover the main language features – variables and data types\, conditionals\, lists\, for/while loops\, list comprehensions\, dictionaries\, writing functions\, and working with external libraries\, doing many exercises along the way. In the second part we will take a look at some of the libraries in more details\, including pandas for working with large tables\, simple plotting with matplotlib\, and few others.
URL:https://ccdhhn.ca/workshop/introduction-to-programming-with-python/
LOCATION:Ontario
CATEGORIES:4-10 hour workshop
ATTACH;FMTTYPE=image/png:https://ccdhhn.ca/wp-content/uploads/2024/01/alliance-with-hat.png
END:VEVENT
BEGIN:VEVENT
DTSTART;TZID=America/Halifax:20240226T000000
DTEND;TZID=America/Halifax:20240228T235959
DTSTAMP:20260423T131601
CREATED:20240304T204301Z
LAST-MODIFIED:20240304T204305Z
UID:10000263-1708905600-1709164799@ccdhhn.ca
SUMMARY:Introduction to Programming with R
DESCRIPTION:February 26-28\, 2024\, 12:00-2:00 pm EST \n\n\n\nPresented by: Marie-Hélène Burle \n\n\n\nDuration: 3 * 120 minutes (total 6 hours) \n\n\n\nDescription: R is a free and open-source programming language for statistical computing\, modelling\, and graphics\, with a large collection of packages and a great community. It is extremely popular in many academic fields\, including the humanities. \n\n\n\nThis introductory course will get you started in a friendly\, non-intimidating atmosphere over 3 days. We will cover the basics of the language\, learn how to write functions\, use the popular packages from the tidyverse\, and plot and analyse data. By the end of the workshop\, you should be self-sufficient and able to use and keep learning R by yourself.
URL:https://ccdhhn.ca/workshop/introduction-to-programming-with-r/
LOCATION:Ontario
CATEGORIES:4-10 hour workshop
ATTACH;FMTTYPE=image/png:https://ccdhhn.ca/wp-content/uploads/2024/01/alliance-with-hat.png
END:VEVENT
END:VCALENDAR