BEGIN:VCALENDAR
VERSION:2.0
PRODID:-//CCDHHN - ECPv6.15.20//NONSGML v1.0//EN
CALSCALE:GREGORIAN
METHOD:PUBLISH
X-ORIGINAL-URL:https://ccdhhn.ca
X-WR-CALDESC:Events for CCDHHN
REFRESH-INTERVAL;VALUE=DURATION:PT1H
X-Robots-Tag:noindex
X-PUBLISHED-TTL:PT1H
BEGIN:VTIMEZONE
TZID:America/Halifax
BEGIN:DAYLIGHT
TZOFFSETFROM:-0400
TZOFFSETTO:-0300
TZNAME:ADT
DTSTART:20230312T060000
END:DAYLIGHT
BEGIN:STANDARD
TZOFFSETFROM:-0300
TZOFFSETTO:-0400
TZNAME:AST
DTSTART:20231105T050000
END:STANDARD
BEGIN:DAYLIGHT
TZOFFSETFROM:-0400
TZOFFSETTO:-0300
TZNAME:ADT
DTSTART:20240310T060000
END:DAYLIGHT
BEGIN:STANDARD
TZOFFSETFROM:-0300
TZOFFSETTO:-0400
TZNAME:AST
DTSTART:20241103T050000
END:STANDARD
BEGIN:DAYLIGHT
TZOFFSETFROM:-0400
TZOFFSETTO:-0300
TZNAME:ADT
DTSTART:20250309T060000
END:DAYLIGHT
BEGIN:STANDARD
TZOFFSETFROM:-0300
TZOFFSETTO:-0400
TZNAME:AST
DTSTART:20251102T050000
END:STANDARD
END:VTIMEZONE
BEGIN:VEVENT
DTSTART;TZID=America/Halifax:20240508T000000
DTEND;TZID=America/Halifax:20240508T235959
DTSTAMP:20260423T075641
CREATED:20240328T011422Z
LAST-MODIFIED:20240328T011429Z
UID:10000278-1715126400-1715212799@ccdhhn.ca
SUMMARY:From Data to Story: Crafting Digital Narratives with GIS
DESCRIPTION:Have you heard of\, or been wondering about\, Geographic Information Systems (GIS) and how it might benefit your work? \n\n\n\nAre you an university researcher and looking to learn more about\, gain access to\, or be able to use ArcGIS Pro? \n\n\n\nAre you looking to become familiar with the use of Storymaps as part of your research\, assignments\, or instruction on campus? \n\n\n\nThen please attend this one-day\, in-person workshop on Wednesday\, May 8 at St Francis Xavier University! \n\n\n\nThis event is being hosted by an interdisciplinary team from St. Francis Xavier University representing the Digital Humanities Centre\, Library and Aquatics Resources Program to assist those on campus who wish to learn about\, refresh their knowledge or enhance their understanding of the capabilities of GIS. \n\n\n\nThis workshop will consist of both lecture and “hands-on” components\, providing attendees with the necessary theoretical and practical experience to what GIS is\, ArcGIS software and familiarity with the creation of Storymaps. This full-day (9AM-4:30PM) event will consist of 4 sessions that will explain what GIS\, the software used\, how it can be of benefit to your research and will introduce and guide participants through the creation of storymaps using ArcGIS Pro software. \n\n\n\nThere is no cost to attend this event\, however registration is require as space is limited. (Lunch and snacks provided.) Open to all\, regardless of discipline or career stage. \n\n\n\nInstructor: Matt Schumacher \n\n\n\n\nLink to Register
URL:https://ccdhhn.ca/workshop/from-data-to-story-crafting-digital-narratives-with-gis/
LOCATION:St Francis Xavier University\, 4130 University Ave\, Antigonish\, Nova Scotia\, B2G 2W5\, Canada
CATEGORIES:4-10 hour workshop
ATTACH;FMTTYPE=image/png:https://ccdhhn.ca/wp-content/uploads/2022/12/Screenshot-2022-12-01-at-11.51.36-AM.png
ORGANIZER;CN="StFX Digital Humanities Centre":MAILTO:digitalhumanities@stfx.ca
GEO:45.617725033365;-61.995403645836
X-APPLE-STRUCTURED-LOCATION;VALUE=URI;X-ADDRESS=St Francis Xavier University 4130 University Ave Antigonish Nova Scotia B2G 2W5 Canada;X-APPLE-RADIUS=500;X-TITLE=4130 University Ave:geo:-61.995403645836,45.617725033365
END:VEVENT
END:VCALENDAR