BEGIN:VCALENDAR
VERSION:2.0
PRODID:-//CCDHHN - ECPv6.15.20//NONSGML v1.0//EN
CALSCALE:GREGORIAN
METHOD:PUBLISH
X-WR-CALNAME:CCDHHN
X-ORIGINAL-URL:https://ccdhhn.ca
X-WR-CALDESC:Events for CCDHHN
REFRESH-INTERVAL;VALUE=DURATION:PT1H
X-Robots-Tag:noindex
X-PUBLISHED-TTL:PT1H
BEGIN:VTIMEZONE
TZID:America/Halifax
BEGIN:DAYLIGHT
TZOFFSETFROM:-0400
TZOFFSETTO:-0300
TZNAME:ADT
DTSTART:20240310T060000
END:DAYLIGHT
BEGIN:STANDARD
TZOFFSETFROM:-0300
TZOFFSETTO:-0400
TZNAME:AST
DTSTART:20241103T050000
END:STANDARD
BEGIN:DAYLIGHT
TZOFFSETFROM:-0400
TZOFFSETTO:-0300
TZNAME:ADT
DTSTART:20250309T060000
END:DAYLIGHT
BEGIN:STANDARD
TZOFFSETFROM:-0300
TZOFFSETTO:-0400
TZNAME:AST
DTSTART:20251102T050000
END:STANDARD
BEGIN:DAYLIGHT
TZOFFSETFROM:-0400
TZOFFSETTO:-0300
TZNAME:ADT
DTSTART:20260308T060000
END:DAYLIGHT
BEGIN:STANDARD
TZOFFSETFROM:-0300
TZOFFSETTO:-0400
TZNAME:AST
DTSTART:20261101T050000
END:STANDARD
END:VTIMEZONE
BEGIN:VEVENT
DTSTART;TZID=America/Halifax:20250304T000000
DTEND;TZID=America/Halifax:20250304T235959
DTSTAMP:20260420T045728
CREATED:20250221T151050Z
LAST-MODIFIED:20250221T151103Z
UID:10000481-1741046400-1741132799@ccdhhn.ca
SUMMARY:Introductory Programming with Python 
DESCRIPTION:Dates: March 4th & 6th\, 2025 \n\n\n\nJoin us for an engaging and interactive introduction to programming with Python. Whether you are a complete beginner or looking to strengthen your foundational knowledge\, this session will provide you with the essential building blocks of Python programming. \n\n\n\nThroughout these sessions\, you’ll build a strong foundation in Python by learning how to write and structure code\, work with different types of data\, and create dynamic programs using decision-making and loops. You’ll also explore how functions help organize your code and how libraries can expand your programming capabilities\, making it easier to tackle more complex tasks. This hands-on experience will give you the confidence to start coding and problem-solving effectively. \n\n\n\nYou do not need to have any previous knowledge of the tools that will be presented or previous programming experience but intermediate level experience with a computer is highly recommended. \n\n\n\nYou do need to have a laptop with a Mac\, Linux or Windows operating system (not a tablet\, Chromebook\, etc) on which you have administrative privileges\, as you will need to pre-load specific software packages. \n\n\n\nInstructors: Sarah Clarke and Tannia Chevez
URL:https://ccdhhn.ca/workshop/introductory-programming-with-python-2/
LOCATION:Ontario
CATEGORIES:4-10 hour workshop
ATTACH;FMTTYPE=image/png:https://ccdhhn.ca/wp-content/uploads/2023/11/ACENET-logo.png
END:VEVENT
END:VCALENDAR