BEGIN:VCALENDAR
VERSION:2.0
PRODID:-//CCDHHN - ECPv6.15.20//NONSGML v1.0//EN
CALSCALE:GREGORIAN
METHOD:PUBLISH
X-WR-CALNAME:CCDHHN
X-ORIGINAL-URL:https://ccdhhn.ca
X-WR-CALDESC:Events for CCDHHN
REFRESH-INTERVAL;VALUE=DURATION:PT1H
X-Robots-Tag:noindex
X-PUBLISHED-TTL:PT1H
BEGIN:VTIMEZONE
TZID:America/Halifax
BEGIN:DAYLIGHT
TZOFFSETFROM:-0400
TZOFFSETTO:-0300
TZNAME:ADT
DTSTART:20250309T060000
END:DAYLIGHT
BEGIN:STANDARD
TZOFFSETFROM:-0300
TZOFFSETTO:-0400
TZNAME:AST
DTSTART:20251102T050000
END:STANDARD
BEGIN:DAYLIGHT
TZOFFSETFROM:-0400
TZOFFSETTO:-0300
TZNAME:ADT
DTSTART:20260308T060000
END:DAYLIGHT
BEGIN:STANDARD
TZOFFSETFROM:-0300
TZOFFSETTO:-0400
TZNAME:AST
DTSTART:20261101T050000
END:STANDARD
BEGIN:DAYLIGHT
TZOFFSETFROM:-0400
TZOFFSETTO:-0300
TZNAME:ADT
DTSTART:20270314T060000
END:DAYLIGHT
BEGIN:STANDARD
TZOFFSETFROM:-0300
TZOFFSETTO:-0400
TZNAME:AST
DTSTART:20271107T050000
END:STANDARD
END:VTIMEZONE
BEGIN:VEVENT
DTSTART;TZID=America/Halifax:20260513T000000
DTEND;TZID=America/Halifax:20260513T235959
DTSTAMP:20260424T214859
CREATED:20260424T131015Z
LAST-MODIFIED:20260424T131239Z
UID:10000717-1778630400-1778716799@ccdhhn.ca
SUMMARY:Building Your Scholarly Identity: ORCiD and Google Scholar Profiles
DESCRIPTION:Description: This webinar walks participants through creating their ORCID and Google Scholar profiles as foundational tools for managing scholarly identity and increasing the discoverability of their research. \n\n\n\nBy the end of this webinar\, participants will be able to: \n\n\n\n\nCreate and configure an ORCID iD and Google Scholar profile by entering biographical information\, claiming publications\, and linking affiliated works to establish an accurate and persistent scholarly record\n\n\n\n\nThis workshop qualifies for credits towards The Canadian Certificate in Digital Humanities/Certificat canadien en Humanités Numériques certificate. \n\n\n\nLength: 45min \n\n\n\nEngagement Level: Low- Medium\n\n\n\nThis will mostly be a lecture-style webinar that includes demonstrations and an opportunity to follow along to build your own profile and ask questions. \n\n\n\nInstructor: Kaitlin Fuller \n\n\n\nRecording Information: This session will be recorded.
URL:https://ccdhhn.ca/workshop/building-your-scholarly-identity-orcid-and-google-scholar-profiles/
CATEGORIES:45 minute workshop
ATTACH;FMTTYPE=image/jpeg:https://ccdhhn.ca/wp-content/uploads/2026/03/StFX-Library-Logo.jpg
ORGANIZER;CN="Angus L. Macdonald Library%2C STFX":MAILTO:library@stfx.ca
END:VEVENT
END:VCALENDAR